View In:
ArcGIS JavaScript
ArcGIS Online Map Viewer
ArcGIS Earth
Service Description: MapServices/POI_1
Name: MapServices/POI_1
Description:
Single Fused Map Cache: false
Extent:
XMin: 1920890.931336184
YMin: 768011.4537449351
XMax: 2014745.4800917872
YMax: 907947.2920804358
Spatial Reference: 102719
(2264)
VCSWkid(115702)
LatestVCSWkid(115702)
Initial Extent:
XMin: 1920890.931336184
YMin: 768011.4537449351
XMax: 2014745.4800917872
YMax: 907947.2920804358
Spatial Reference: 102719
(2264)
VCSWkid(115702)
LatestVCSWkid(115702)
Full Extent:
XMin: 1920890.931336184
YMin: 768011.4537449351
XMax: 2014745.4800917872
YMax: 907947.2920804358
Spatial Reference: 102719
(2264)
VCSWkid(115702)
LatestVCSWkid(115702)
Pixel Size X: 99.52762328271807
Pixel Size Y: 99.52762328271741
Band Count: 1
Pixel Type: U8
RasterFunction Infos: {"rasterFunctionInfos": [{
"name": "None",
"description": "",
"help": ""
}]}
Mensuration Capabilities: Basic
Inspection Capabilities:
Has Histograms: true
Has Colormap: false
Has Multi Dimensions : false
Rendering Rule:
Min Scale: 0
Max Scale: 0
Copyright Text:
Service Data Type: esriImageServiceDataTypeGeneric
Min Values: 0
Max Values: 10
Mean Values: 0.0633386579356126
Standard Deviation Values: 0.48882866850287426
Object ID Field:
Fields:
None
Default Mosaic Method: Center
Allowed Mosaic Methods:
SortField:
SortValue: null
Mosaic Operator: First
Default Compression Quality: 75
Default Resampling Method: Bilinear
Max Record Count: null
Max Image Height: 4100
Max Image Width: 15000
Max Download Image Count: null
Max Mosaic Image Count: null
Allow Raster Function: true
Allow Copy: true
Allow Analysis: true
Allow Compute TiePoints: false
Supports Statistics: false
Supports Advanced Queries: false
Use StandardizedQueries: true
Raster Type Infos:
Name: Raster Dataset
Description: Supports all ArcGIS Raster Datasets
Help:
Has Raster Attribute Table: true
Edit Fields Info: null
Ownership Based AccessControl For Rasters: null
Child Resources:
Info
Raster Attribute Table
Histograms
Statistics
Key Properties
Legend
Raster Function Infos
Supported Operations:
Export Image
Identify
Measure
Compute Histograms
Compute Statistics Histograms
Get Samples
Compute Class Statistics
Query Boundary
Compute Pixel Location
Compute Angles
Validate
Project