{
 "currentVersion": 11.5,
 "serviceDescription": "POI_2",
 "serviceItemId": "e2f9da39b0834bac9de7933ca5871e60",
 "name": "POI_2",
 "description": "",
 "extent": {
  "xmin": 1920890.931336184,
  "ymin": 768011.4537449373,
  "xmax": 2014745.480091781,
  "ymax": 907947.2920804297,
  "spatialReference": {
   "wkid": 102719,
   "latestWkid": 2264,
   "vcsWkid": 115702,
   "latestVcsWkid": 115702
  }
 },
 "initialExtent": {
  "xmin": 1920890.931336184,
  "ymin": 768011.4537449373,
  "xmax": 2014745.480091781,
  "ymax": 907947.2920804297,
  "spatialReference": {
   "wkid": 102719,
   "latestWkid": 2264,
   "vcsWkid": 115702,
   "latestVcsWkid": 115702
  }
 },
 "fullExtent": {
  "xmin": 1920890.931336184,
  "ymin": 768011.4537449373,
  "xmax": 2014745.480091781,
  "ymax": 907947.2920804297,
  "spatialReference": {
   "wkid": 102719,
   "latestWkid": 2264,
   "vcsWkid": 115702,
   "latestVcsWkid": 115702
  }
 },
 "sortableFields": "",
 "heightModelInfo": {
  "heightModel": "ellipsoidal",
  "vertCRS": "NAD_1983",
  "heightUnit": "meter"
 },
 "bandCount": 1,
 "pixelType": "U8",
 "minValues": [
  0
 ],
 "maxValues": [
  10
 ],
 "meanValues": [
  0.14725627154942397
 ],
 "stdvValues": [
  0.7262726045094049
 ],
 "serviceProperties": "Center<\/MosaicMethod>First<\/MosaicOperator>true<\/SortAscending><\/LockImageID><\/TileOrderField>0<\/TileOrderBase>0.000000<\/AvgImageSpacingX>0.000000<\/AvgImageSpacingY>0.0<\/ViewPointX>0.0<\/ViewPointY>0.0<\/ViewPointDefShiftX>0.0<\/ViewPointDefShiftY>None<\/CompressionMethod>75<\/CompressionQuality>0.010000<\/CompressionTolerance>Bilinear<\/SamplingMethod><\/ImageServiceProperties><\/ImageServer>",
 "allowedFields": "",
 "hasMultidimensions": false,
 "pixelSizeX": 99.5276232827114,
 "pixelSizeY": 99.52762328271153,
 "meanPixelSize": 30.336080248730955,
 "datasetFormat": "FGDBR",
 "uncompressedSize": 1325858,
 "blockWidth": 128,
 "blockHeight": 128,
 "compressionType": "LZ77",
 "bandNames": [
  "Band_1"
 ],
 "allowCopy": true,
 "allowAnalysis": true,
 "itemAccess": false,
 "inspectionCapabilities": "",
 "minPixelSize": 0,
 "maxPixelSize": 0,
 "copyrightText": "",
 "serviceDataType": "esriImageServiceDataTypeGeneric",
 "serviceSourceType": "esriImageServiceSourceTypeDataset",
 "objectIdField": "",
 "fields": [],
 "capabilities": "Image,Metadata,Mensuration",
 "defaultMosaicMethod": "Center",
 "allowedMosaicMethods": "",
 "sortField": "",
 "sortValue": null,
 "sortAscending": true,
 "mosaicOperator": "First",
 "defaultCompressionQuality": 75,
 "defaultResamplingMethod": "Bilinear",
 "maxImageHeight": 4100,
 "maxImageWidth": 15000,
 "allowRasterFunction": true,
 "rasterFunctionInfos": [
  {
   "name": "None",
   "description": "",
   "help": ""
  }
 ],
 "rasterTypeInfos": [
  {
   "name": "Raster Dataset",
   "description": "Supports all ArcGIS Raster Datasets",
   "help": ""
  }
 ],
 "mensurationCapabilities": "Basic",
 "hasHistograms": true,
 "hasColormap": false,
 "hasRasterAttributeTable": true,
 "minScale": 0,
 "maxScale": 0,
 "exportTilesAllowed": false,
 "supportsStatistics": false,
 "supportsAdvancedQueries": false,
 "editFieldsInfo": null,
 "ownershipBasedAccessControlForRasters": null,
 "allowComputeTiePoints": false,
 "useStandardizedQueries": true,
 "advancedQueryCapabilities": {
  "useStandardizedQueries": true,
  "supportsStatistics": false,
  "supportsOrderBy": false,
  "supportsDistinct": false,
  "supportsPagination": false
 },
 "spatialReference": {
  "wkid": 102719,
  "latestWkid": 2264,
  "vcsWkid": 115702,
  "latestVcsWkid": 115702
 }
}
