<?xml version="1.0" encoding="UTF-8" standalone="no"?>
<metadata xml:lang="en">
<Esri>
<CreaDate>20220407</CreaDate>
<CreaTime>14071000</CreaTime>
<ArcGISFormat>1.0</ArcGISFormat>
<SyncOnce>FALSE</SyncOnce>
<DataProperties>
<lineage>
<Process Date="20220407" Time="140710" ToolSource="c:\users\dalmond\appdata\local\programs\arcgis\pro\Resources\ArcToolbox\toolboxes\3D Analyst Tools.tbx\Reclassify">Reclassify "New Suitability Model\MultifamilyServiceAreaOverlapAreas_PolygonToRaster" Value "1 1;2 2;3 3;4 4;5 5;6 6;7 7;8 8;9 9;10 10;11 11;12 12;13 13;14 14;15 15;16 16;17 17;18 18;19 19;20 20;21 21;22 22;23 23;24 24;25 25;26 26;27 27;28 28;29 29;30 30;31 31;32 32;33 33;34 34;35 35;36 36;37 37;38 38;39 39;40 40;41 41;42 42;43 43;44 44;45 45;46 46;47 47;48 48;49 49;50 50;51 51;52 52;53 53;54 54;55 55;56 56;57 57;58 58;59 59;60 60;61 61;NODATA 0" "\\chfs\Users2\dalmond\Departments\Sustainability\EV Suitability Analysis\EVCS Suitability.gdb\Reclass_MultifamilyNetwork" DATA</Process>
<Process Date="20220412" Time="114627" ToolSource="c:\users\dalmond\appdata\local\programs\arcgis\pro\Resources\ArcToolbox\toolboxes\Data Management Tools.tbx\ProjectRaster">ProjectRaster "A:\Departments\Sustainability\EV Suitability Analysis\EVCS Suitability.gdb\Reclass_MultifamilyNetwork" "A:\Departments\Sustainability\EV Suitability Analysis\EVSE Layers Draft.gdb\MultifamilyNetwork_source" PROJCS["NAD_1983_StatePlane_North_Carolina_FIPS_3200_Feet",GEOGCS["GCS_North_American_1983",DATUM["D_North_American_1983",SPHEROID["GRS_1980",6378137.0,298.257222101]],PRIMEM["Greenwich",0.0],UNIT["Degree",0.0174532925199433]],PROJECTION["Lambert_Conformal_Conic"],PARAMETER["False_Easting",2000000.002616666],PARAMETER["False_Northing",0.0],PARAMETER["Central_Meridian",-79.0],PARAMETER["Standard_Parallel_1",34.33333333333334],PARAMETER["Standard_Parallel_2",36.16666666666666],PARAMETER["Latitude_Of_Origin",33.75],UNIT["Foot_US",0.3048006096012192]] "Nearest neighbor" "99.5274107622299 99.5274107622296" WGS_1984_(ITRF00)_To_NAD_1983 # GEOGCS["GCS_WGS_1984",DATUM["D_WGS_1984",SPHEROID["WGS_1984",6378137.0,298.257223563]],PRIMEM["Greenwich",0.0],UNIT["Degree",0.0174532925199433]] NO_VERTICAL</Process>
</lineage>
<LayerFile>{"type":"CIMLayerDocument","version":"2.9.0","build":32739,"layers":["CIMPATH=overlay_map/reclass_multifamilynetwork.xml"],"layerDefinitions":[{"type":"CIMRasterLayer","name":"Reclass_MultifamilyNetwork","uRI":"CIMPATH=overlay_map/reclass_multifamilynetwork.xml","sourceModifiedTime":{"type":"TimeInstant"},"useSourceMetadata":true,"description":"Reclass_MultifamilyNetwork","layerElevation":{"type":"CIMLayerElevationSurface","mapElevationID":"{58AB408D-0F4E-4CAF-8F2A-D3BF94BF469F}"},"expanded":true,"layerType":"Operational","showLegends":true,"visibility":true,"displayCacheType":"Permanent","maxDisplayCacheAge":5,"showPopups":true,"serviceLayerID":-1,"refreshRate":-1,"refreshRateUnit":"esriTimeUnitsSeconds","blendingMode":"Alpha","allowDrapingOnIntegratedMesh":true,"dataConnection":{"type":"CIMStandardDataConnection","workspaceConnectionString":"DATABASE=\\\\chfs\\Users2\\dalmond\\Departments\\Sustainability\\EV Suitability Analysis\\EVCS Suitability.gdb","workspaceFactory":"FileGDB","dataset":"Reclass_MultifamilyNetwork","datasetType":"esriDTRasterDataset"},"colorizer":{"type":"CIMRasterClassifyColorizer","resamplingType":"NearestNeighbor","normalizationType":"Nothing","classBreaks":[{"type":"CIMRasterClassBreak","upperBound":6.7777777777777777,"label":"0 - 6.778","color":{"type":"CIMRGBColor","values":[255,255,217,100]}},{"type":"CIMRasterClassBreak","upperBound":13.5555555555555554,"label":"6.779 - 13.556","color":{"type":"CIMRGBColor","values":[237,248,177,100]}},{"type":"CIMRasterClassBreak","upperBound":20.3333333333333321,"label":"13.557 - 20.333","color":{"type":"CIMRGBColor","values":[199,233,180,100]}},{"type":"CIMRasterClassBreak","upperBound":27.1111111111111107,"label":"20.334 - 27.111","color":{"type":"CIMRGBColor","values":[127,205,187,100]}},{"type":"CIMRasterClassBreak","upperBound":33.8888888888888857,"label":"27.112 - 33.889","color":{"type":"CIMRGBColor","values":[65,182,196,100]}},{"type":"CIMRasterClassBreak","upperBound":40.6666666666666643,"label":"33.89 - 40.667","color":{"type":"CIMRGBColor","values":[29,145,192,100]}},{"type":"CIMRasterClassBreak","upperBound":47.4444444444444429,"label":"40.668 - 47.444","color":{"type":"CIMRGBColor","values":[34,94,168,100]}},{"type":"CIMRasterClassBreak","upperBound":54.2222222222222214,"label":"47.445 - 54.222","color":{"type":"CIMRGBColor","values":[37,52,148,100]}},{"type":"CIMRasterClassBreak","upperBound":61,"label":"54.223 - 61","color":{"type":"CIMRGBColor","values":[8,29,88,100]}}],"classificationMethod":"EqualInterval","colorRamp":{"type":"CIMMultipartColorRamp","colorSpace":{"type":"CIMICCColorSpace","url":"Default RGB"},"colorRamps":[{"type":"CIMLinearContinuousColorRamp","colorSpace":{"type":"CIMICCColorSpace","url":"Default RGB"},"fromColor":{"type":"CIMRGBColor","colorSpace":{"type":"CIMICCColorSpace","url":"Default RGB"},"values":[255,255,217,100]},"toColor":{"type":"CIMRGBColor","colorSpace":{"type":"CIMICCColorSpace","url":"Default RGB"},"values":[237,248,177,100]}},{"type":"CIMLinearContinuousColorRamp","colorSpace":{"type":"CIMICCColorSpace","url":"Default RGB"},"fromColor":{"type":"CIMRGBColor","colorSpace":{"type":"CIMICCColorSpace","url":"Default RGB"},"values":[237,248,177,100]},"toColor":{"type":"CIMRGBColor","colorSpace":{"type":"CIMICCColorSpace","url":"Default RGB"},"values":[199,233,180,100]}},{"type":"CIMLinearContinuousColorRamp","colorSpace":{"type":"CIMICCColorSpace","url":"Default RGB"},"fromColor":{"type":"CIMRGBColor","colorSpace":{"type":"CIMICCColorSpace","url":"Default RGB"},"values":[199,233,180,100]},"toColor":{"type":"CIMRGBColor","colorSpace":{"type":"CIMICCColorSpace","url":"Default RGB"},"values":[127,205,187,100]}},{"type":"CIMLinearContinuousColorRamp","colorSpace":{"type":"CIMICCColorSpace","url":"Default RGB"},"fromColor":{"type":"CIMRGBColor","colorSpace":{"type":"CIMICCColorSpace","url":"Default RGB"},"values":[127,205,187,100]},"toColor":{"type":"CIMRGBColor","colorSpace":{"type":"CIMICCColorSpace","url":"Default RGB"},"values":[65,182,196,100]}},{"type":"CIMLinearContinuousColorRamp","colorSpace":{"type":"CIMICCColorSpace","url":"Default RGB"},"fromColor":{"type":"CIMRGBColor","colorSpace":{"type":"CIMICCColorSpace","url":"Default RGB"},"values":[65,182,196,100]},"toColor":{"type":"CIMRGBColor","colorSpace":{"type":"CIMICCColorSpace","url":"Default RGB"},"values":[29,145,192,100]}},{"type":"CIMLinearContinuousColorRamp","colorSpace":{"type":"CIMICCColorSpace","url":"Default RGB"},"fromColor":{"type":"CIMRGBColor","colorSpace":{"type":"CIMICCColorSpace","url":"Default RGB"},"values":[29,145,192,100]},"toColor":{"type":"CIMRGBColor","colorSpace":{"type":"CIMICCColorSpace","url":"Default RGB"},"values":[34,94,168,100]}},{"type":"CIMLinearContinuousColorRamp","colorSpace":{"type":"CIMICCColorSpace","url":"Default RGB"},"fromColor":{"type":"CIMRGBColor","colorSpace":{"type":"CIMICCColorSpace","url":"Default RGB"},"values":[34,94,168,100]},"toColor":{"type":"CIMRGBColor","colorSpace":{"type":"CIMICCColorSpace","url":"Default RGB"},"values":[37,52,148,100]}},{"type":"CIMLinearContinuousColorRamp","colorSpace":{"type":"CIMICCColorSpace","url":"Default RGB"},"fromColor":{"type":"CIMRGBColor","colorSpace":{"type":"CIMICCColorSpace","url":"Default RGB"},"values":[37,52,148,100]},"toColor":{"type":"CIMRGBColor","colorSpace":{"type":"CIMICCColorSpace","url":"Default RGB"},"values":[8,29,88,100]}}],"weights":[0.125,0.125,0.125,0.125,0.125,0.125,0.125,0.125]},"field":"VALUE","hillshadeZFactor":1,"showInAscendingOrder":true,"numberFormat":{"type":"CIMNumericFormat","alignmentOption":"esriAlignLeft","alignmentWidth":12,"roundingOption":"esriRoundNumberOfDecimals","roundingValue":3,"useSeparator":true}},"attributeTable":{"type":"CIMRasterTable","displayField":"Value","editable":true}}]}</LayerFile>
<itemProps>
<itemName Sync="TRUE">MultifamilyNetwork_source</itemName>
<imsContentType Sync="TRUE">002</imsContentType>
<nativeExtBox>
<westBL Sync="TRUE">1920955.749568</westBL>
<eastBL Sync="TRUE">2014810.097917</eastBL>
<southBL Sync="TRUE">768029.124495</southBL>
<northBL Sync="TRUE">907865.136616</northBL>
<exTypeCode Sync="TRUE">1</exTypeCode>
</nativeExtBox>
<itemLocation>
<linkage Sync="TRUE">file://\\chfs\Users2\dalmond\Departments\Sustainability\EV Suitability Analysis\EVSE Layers Draft.gdb</linkage>
<protocol Sync="TRUE">Local Area Network</protocol>
</itemLocation>
</itemProps>
<coordRef>
<type Sync="TRUE">Projected</type>
<geogcsn Sync="TRUE">GCS_North_American_1983</geogcsn>
<csUnits Sync="TRUE">Linear Unit: Foot_US (0.304801)</csUnits>
<projcsn Sync="TRUE">NAD_1983_StatePlane_North_Carolina_FIPS_3200_Feet</projcsn>
<peXml Sync="TRUE">&lt;ProjectedCoordinateSystem xsi:type='typens:ProjectedCoordinateSystem' xmlns:xsi='http://www.w3.org/2001/XMLSchema-instance' xmlns:xs='http://www.w3.org/2001/XMLSchema' xmlns:typens='http://www.esri.com/schemas/ArcGIS/2.9.0'&gt;&lt;WKT&gt;PROJCS[&amp;quot;NAD_1983_StatePlane_North_Carolina_FIPS_3200_Feet&amp;quot;,GEOGCS[&amp;quot;GCS_North_American_1983&amp;quot;,DATUM[&amp;quot;D_North_American_1983&amp;quot;,SPHEROID[&amp;quot;GRS_1980&amp;quot;,6378137.0,298.257222101]],PRIMEM[&amp;quot;Greenwich&amp;quot;,0.0],UNIT[&amp;quot;Degree&amp;quot;,0.0174532925199433]],PROJECTION[&amp;quot;Lambert_Conformal_Conic&amp;quot;],PARAMETER[&amp;quot;False_Easting&amp;quot;,2000000.002616666],PARAMETER[&amp;quot;False_Northing&amp;quot;,0.0],PARAMETER[&amp;quot;Central_Meridian&amp;quot;,-79.0],PARAMETER[&amp;quot;Standard_Parallel_1&amp;quot;,34.33333333333334],PARAMETER[&amp;quot;Standard_Parallel_2&amp;quot;,36.16666666666666],PARAMETER[&amp;quot;Latitude_Of_Origin&amp;quot;,33.75],UNIT[&amp;quot;Foot_US&amp;quot;,0.3048006096012192],AUTHORITY[&amp;quot;EPSG&amp;quot;,2264]]&lt;/WKT&gt;&lt;XOrigin&gt;-121841900&lt;/XOrigin&gt;&lt;YOrigin&gt;-93659000&lt;/YOrigin&gt;&lt;XYScale&gt;36365718.124241434&lt;/XYScale&gt;&lt;ZOrigin&gt;-100000&lt;/ZOrigin&gt;&lt;ZScale&gt;10000&lt;/ZScale&gt;&lt;MOrigin&gt;-100000&lt;/MOrigin&gt;&lt;MScale&gt;10000&lt;/MScale&gt;&lt;XYTolerance&gt;0.0032808333333333331&lt;/XYTolerance&gt;&lt;ZTolerance&gt;0.001&lt;/ZTolerance&gt;&lt;MTolerance&gt;0.001&lt;/MTolerance&gt;&lt;HighPrecision&gt;true&lt;/HighPrecision&gt;&lt;WKID&gt;102719&lt;/WKID&gt;&lt;LatestWKID&gt;2264&lt;/LatestWKID&gt;&lt;/ProjectedCoordinateSystem&gt;</peXml>
</coordRef>
</DataProperties>
<SyncDate>20220412</SyncDate>
<SyncTime>11461500</SyncTime>
<ModDate>20220412</ModDate>
<ModTime>11461500</ModTime>
</Esri>
<dataIdInfo>
<envirDesc Sync="TRUE">Microsoft Windows 10 Version 10.0 (Build 18363) ; Esri ArcGIS 12.9.2.32739</envirDesc>
<dataLang>
<languageCode Sync="TRUE" value="eng"/>
<countryCode Sync="TRUE" value="USA"/>
</dataLang>
<idCitation>
<resTitle Sync="TRUE">Multifamily Unit Network</resTitle>
<presForm>
<PresFormCd Sync="TRUE" value="011"/>
</presForm>
</idCitation>
<spatRpType>
<SpatRepTypCd Sync="TRUE" value="002"/>
</spatRpType>
<dataExt>
<geoEle>
<GeoBndBox esriExtentType="search">
<exTypeCode Sync="TRUE">1</exTypeCode>
<westBL Sync="TRUE">-79.268034</westBL>
<eastBL Sync="TRUE">-78.949780</eastBL>
<northBL Sync="TRUE">36.244387</northBL>
<southBL Sync="TRUE">35.859963</southBL>
</GeoBndBox>
</geoEle>
</dataExt>
<idAbs/>
<searchKeys>
<keyword>EVSE Suitability Analysis</keyword>
<keyword>Multifamily Unit Network</keyword>
</searchKeys>
<idPurp>Reclassified 0.25 mile pedestrian network service areas. Data is derived from a 0.25 mile network service area analysis for multifamily units. </idPurp>
<idCredit/>
<resConst>
<Consts>
<useLimit/>
</Consts>
</resConst>
</dataIdInfo>
<mdLang>
<languageCode Sync="TRUE" value="eng"/>
<countryCode Sync="TRUE" value="USA"/>
</mdLang>
<distInfo>
<distFormat>
<formatName Sync="TRUE">File Geodatabase Raster Dataset</formatName>
</distFormat>
</distInfo>
<mdHrLv>
<ScopeCd Sync="TRUE" value="005"/>
</mdHrLv>
<mdHrLvName Sync="TRUE">dataset</mdHrLvName>
<refSysInfo>
<RefSystem>
<refSysID>
<identCode Sync="TRUE" code="2264"/>
<idCodeSpace Sync="TRUE">EPSG</idCodeSpace>
<idVersion Sync="TRUE">6.12(9.0.0)</idVersion>
</refSysID>
</RefSystem>
</refSysInfo>
<spdoinfo>
<rastinfo>
<rasttype Sync="TRUE">Pixel</rasttype>
<rowcount Sync="TRUE">1405</rowcount>
<colcount Sync="TRUE">943</colcount>
<rastxsz Sync="TRUE">99.527411</rastxsz>
<rastysz Sync="TRUE">99.527411</rastysz>
<rastbpp Sync="TRUE">8</rastbpp>
<vrtcount Sync="TRUE">1</vrtcount>
<rastorig Sync="TRUE">Upper Left</rastorig>
<rastcmap Sync="TRUE">FALSE</rastcmap>
<rastcomp Sync="TRUE">LZ77</rastcomp>
<rastband Sync="TRUE">1</rastband>
<rastdtyp Sync="TRUE">pixel codes</rastdtyp>
<rastifor Sync="TRUE">FGDBR</rastifor>
<rastplyr Sync="TRUE">TRUE</rastplyr>
</rastinfo>
</spdoinfo>
<spref>
<horizsys>
<planar>
<planci>
<plance Sync="TRUE">row and column</plance>
<coordrep>
<absres Sync="TRUE">99.527411</absres>
<ordres Sync="TRUE">99.527411</ordres>
</coordrep>
</planci>
</planar>
</horizsys>
</spref>
<eainfo>
<detailed Name="VAT_MultifamilyNetwork_source">
<enttyp>
<enttypl Sync="TRUE">VAT_MultifamilyNetwork_source</enttypl>
<enttypt Sync="TRUE">Table</enttypt>
<enttypc Sync="TRUE">62</enttypc>
</enttyp>
<attr>
<attrlabl Sync="TRUE">OBJECTID</attrlabl>
<attalias Sync="TRUE">OBJECTID</attalias>
<attrtype Sync="TRUE">OID</attrtype>
<attwidth Sync="TRUE">4</attwidth>
<atprecis Sync="TRUE">0</atprecis>
<attscale Sync="TRUE">0</attscale>
<attrdef Sync="TRUE">Internal feature number.</attrdef>
<attrdefs Sync="TRUE">Esri</attrdefs>
<attrdomv>
<udom Sync="TRUE">Sequential unique whole numbers that are automatically generated.</udom>
</attrdomv>
</attr>
<attr>
<attrlabl Sync="TRUE">Value</attrlabl>
<attalias Sync="TRUE">Value</attalias>
<attrtype Sync="TRUE">Integer</attrtype>
<attwidth Sync="TRUE">4</attwidth>
<atprecis Sync="TRUE">0</atprecis>
<attscale Sync="TRUE">0</attscale>
</attr>
<attr>
<attrlabl Sync="TRUE">Count</attrlabl>
<attalias Sync="TRUE">Count</attalias>
<attrtype Sync="TRUE">Double</attrtype>
<attwidth Sync="TRUE">8</attwidth>
<atprecis Sync="TRUE">0</atprecis>
<attscale Sync="TRUE">0</attscale>
</attr>
</detailed>
</eainfo>
<mdDateSt Sync="TRUE">20220412</mdDateSt>
</metadata>
