<?xml version="1.0" encoding="UTF-8" standalone="no"?>
<metadata xml:lang="en">
<Esri>
<CreaDate>20220408</CreaDate>
<CreaTime>10312200</CreaTime>
<ArcGISFormat>1.0</ArcGISFormat>
<SyncOnce>FALSE</SyncOnce>
<DataProperties>
<lineage>
<Process Date="20220408" Time="103122" ToolSource="c:\users\dalmond\appdata\local\programs\arcgis\pro\Resources\ArcToolbox\toolboxes\3D Analyst Tools.tbx\Reclassify">Reclassify "\\chfs\Users2\dalmond\Departments\Sustainability\EV Suitability Analysis\EVCS Suitability.gdb\BoB_pt25_SAs" Value ";NODATA 0" "\\chfs\Users2\dalmond\Departments\Sustainability\EV Suitability Analysis\EVCS Suitability.gdb\Reclass_BOB_Fill" DATA</Process>
<Process Date="20220412" Time="183927" ToolSource="c:\users\dalmond\appdata\local\programs\arcgis\pro\Resources\ArcToolbox\toolboxes\Data Management Tools.tbx\ProjectRaster">ProjectRaster "EVSE Draft Suitability Model\Reclass_BOB_Fill" "A:\Departments\Sustainability\EV Suitability Analysis\EVSE Layers Draft.gdb\BOB_source" PROJCS["NAD_1983_StatePlane_North_Carolina_FIPS_3200_Feet",GEOGCS["GCS_North_American_1983",DATUM["D_North_American_1983",SPHEROID["GRS_1980",6378137.0,298.257222101]],PRIMEM["Greenwich",0.0],UNIT["Degree",0.0174532925199433]],PROJECTION["Lambert_Conformal_Conic"],PARAMETER["False_Easting",2000000.002616666],PARAMETER["False_Northing",0.0],PARAMETER["Central_Meridian",-79.0],PARAMETER["Standard_Parallel_1",34.33333333333334],PARAMETER["Standard_Parallel_2",36.16666666666666],PARAMETER["Latitude_Of_Origin",33.75],UNIT["Foot_US",0.3048006096012192]] "Nearest neighbor" "99.5273851158432 99.5273851158431" WGS_1984_(ITRF00)_To_NAD_1983 # GEOGCS["GCS_WGS_1984",DATUM["D_WGS_1984",SPHEROID["WGS_1984",6378137.0,298.257223563]],PRIMEM["Greenwich",0.0],UNIT["Degree",0.0174532925199433]] NO_VERTICAL</Process>
</lineage>
<LayerFile>{"type":"CIMLayerDocument","version":"2.9.0","build":32739,"layers":["CIMPATH=overlay_map/reclass_bob_fill.xml"],"layerDefinitions":[{"type":"CIMRasterLayer","name":"Reclass_BOB_Fill","uRI":"CIMPATH=overlay_map/reclass_bob_fill.xml","sourceModifiedTime":{"type":"TimeInstant"},"useSourceMetadata":true,"description":"Reclass_BOB_Fill","layerElevation":{"type":"CIMLayerElevationSurface","mapElevationID":"{58AB408D-0F4E-4CAF-8F2A-D3BF94BF469F}"},"expanded":true,"layerType":"Operational","showLegends":true,"visibility":true,"displayCacheType":"Permanent","maxDisplayCacheAge":5,"showPopups":true,"serviceLayerID":-1,"refreshRate":-1,"refreshRateUnit":"esriTimeUnitsSeconds","blendingMode":"Alpha","allowDrapingOnIntegratedMesh":true,"dataConnection":{"type":"CIMStandardDataConnection","workspaceConnectionString":"DATABASE=\\\\chfs\\Users2\\dalmond\\Departments\\Sustainability\\EV Suitability Analysis\\EVCS Suitability.gdb","workspaceFactory":"FileGDB","dataset":"Reclass_BOB_Fill","datasetType":"esriDTRasterDataset"},"colorizer":{"type":"CIMRasterUniqueValueColorizer","resamplingType":"NearestNeighbor","fieldName":"Value","groups":[{"type":"CIMRasterUniqueValueGroup","classes":[{"type":"CIMRasterUniqueValueClass","values":["0"],"label":"0","color":{"type":"CIMRGBColor","values":[104,189,187,100]}},{"type":"CIMRasterUniqueValueClass","values":["1"],"label":"1","color":{"type":"CIMRGBColor","values":[236,90,242,100]}},{"type":"CIMRasterUniqueValueClass","values":["2"],"label":"2","color":{"type":"CIMRGBColor","values":[183,77,72,100]}},{"type":"CIMRasterUniqueValueClass","values":["3"],"label":"3","color":{"type":"CIMRGBColor","values":[216,230,82,100]}},{"type":"CIMRasterUniqueValueClass","values":["4"],"label":"4","color":{"type":"CIMRGBColor","values":[88,133,236,100]}},{"type":"CIMRasterUniqueValueClass","values":["5"],"label":"5","color":{"type":"CIMRGBColor","values":[88,248,132,100]}},{"type":"CIMRasterUniqueValueClass","values":["6"],"label":"6","color":{"type":"CIMRGBColor","values":[234,199,155,100]}},{"type":"CIMRasterUniqueValueClass","values":["7"],"label":"7","color":{"type":"CIMRGBColor","values":[92,150,74,100]}},{"type":"CIMRasterUniqueValueClass","values":["8"],"label":"8","color":{"type":"CIMRGBColor","values":[144,88,134,100]}},{"type":"CIMRasterUniqueValueClass","values":["9"],"label":"9","color":{"type":"CIMRGBColor","values":[91,86,245,100]}},{"type":"CIMRasterUniqueValueClass","values":["10"],"label":"10","color":{"type":"CIMRGBColor","values":[74,49,141,100]}},{"type":"CIMRasterUniqueValueClass","values":["11"],"label":"11","color":{"type":"CIMRGBColor","values":[50,101,147,100]}},{"type":"CIMRasterUniqueValueClass","values":["12"],"label":"12","color":{"type":"CIMRGBColor","values":[139,117,57,100]}},{"type":"CIMRasterUniqueValueClass","values":["13"],"label":"13","color":{"type":"CIMRGBColor","values":[166,251,181,100]}},{"type":"CIMRasterUniqueValueClass","values":["14"],"label":"14","color":{"type":"CIMRGBColor","values":[245,151,224,100]}},{"type":"CIMRasterUniqueValueClass","values":["15"],"label":"15","color":{"type":"CIMRGBColor","values":[218,140,154,100]}},{"type":"CIMRasterUniqueValueClass","values":["16"],"label":"16","color":{"type":"CIMRGBColor","values":[143,185,246,100]}},{"type":"CIMRasterUniqueValueClass","values":["17"],"label":"17","color":{"type":"CIMRGBColor","values":[226,83,132,100]}},{"type":"CIMRasterUniqueValueClass","values":["18"],"label":"18","color":{"type":"CIMRGBColor","values":[186,159,248,100]}}],"heading":"Value"}],"colorRamp":{"type":"CIMRandomHSVColorRamp","colorSpace":{"type":"CIMICCColorSpace","url":"Default RGB"},"maxH":360,"minS":33,"maxS":66,"minV":50,"maxV":99,"minAlpha":100,"maxAlpha":100}},"attributeTable":{"type":"CIMRasterTable","displayField":"Value","editable":true}}]}</LayerFile>
<itemProps>
<itemName Sync="TRUE">BOB_source</itemName>
<imsContentType Sync="TRUE">002</imsContentType>
<nativeExtBox>
<westBL Sync="TRUE">1920955.749568</westBL>
<eastBL Sync="TRUE">2014810.073732</eastBL>
<southBL Sync="TRUE">768029.124495</southBL>
<northBL Sync="TRUE">907865.100582</northBL>
<exTypeCode Sync="TRUE">1</exTypeCode>
</nativeExtBox>
<itemLocation>
<linkage Sync="TRUE">file://\\chfs\Users2\dalmond\Departments\Sustainability\EV Suitability Analysis\EVSE Layers Draft.gdb</linkage>
<protocol Sync="TRUE">Local Area Network</protocol>
</itemLocation>
</itemProps>
<coordRef>
<type Sync="TRUE">Projected</type>
<geogcsn Sync="TRUE">GCS_North_American_1983</geogcsn>
<csUnits Sync="TRUE">Linear Unit: Foot_US (0.304801)</csUnits>
<projcsn Sync="TRUE">NAD_1983_StatePlane_North_Carolina_FIPS_3200_Feet</projcsn>
<peXml Sync="TRUE">&lt;ProjectedCoordinateSystem xsi:type='typens:ProjectedCoordinateSystem' xmlns:xsi='http://www.w3.org/2001/XMLSchema-instance' xmlns:xs='http://www.w3.org/2001/XMLSchema' xmlns:typens='http://www.esri.com/schemas/ArcGIS/2.9.0'&gt;&lt;WKT&gt;PROJCS[&amp;quot;NAD_1983_StatePlane_North_Carolina_FIPS_3200_Feet&amp;quot;,GEOGCS[&amp;quot;GCS_North_American_1983&amp;quot;,DATUM[&amp;quot;D_North_American_1983&amp;quot;,SPHEROID[&amp;quot;GRS_1980&amp;quot;,6378137.0,298.257222101]],PRIMEM[&amp;quot;Greenwich&amp;quot;,0.0],UNIT[&amp;quot;Degree&amp;quot;,0.0174532925199433]],PROJECTION[&amp;quot;Lambert_Conformal_Conic&amp;quot;],PARAMETER[&amp;quot;False_Easting&amp;quot;,2000000.002616666],PARAMETER[&amp;quot;False_Northing&amp;quot;,0.0],PARAMETER[&amp;quot;Central_Meridian&amp;quot;,-79.0],PARAMETER[&amp;quot;Standard_Parallel_1&amp;quot;,34.33333333333334],PARAMETER[&amp;quot;Standard_Parallel_2&amp;quot;,36.16666666666666],PARAMETER[&amp;quot;Latitude_Of_Origin&amp;quot;,33.75],UNIT[&amp;quot;Foot_US&amp;quot;,0.3048006096012192],AUTHORITY[&amp;quot;EPSG&amp;quot;,2264]]&lt;/WKT&gt;&lt;XOrigin&gt;-121841900&lt;/XOrigin&gt;&lt;YOrigin&gt;-93659000&lt;/YOrigin&gt;&lt;XYScale&gt;36365718.124241434&lt;/XYScale&gt;&lt;ZOrigin&gt;-100000&lt;/ZOrigin&gt;&lt;ZScale&gt;10000&lt;/ZScale&gt;&lt;MOrigin&gt;-100000&lt;/MOrigin&gt;&lt;MScale&gt;10000&lt;/MScale&gt;&lt;XYTolerance&gt;0.0032808333333333331&lt;/XYTolerance&gt;&lt;ZTolerance&gt;0.001&lt;/ZTolerance&gt;&lt;MTolerance&gt;0.001&lt;/MTolerance&gt;&lt;HighPrecision&gt;true&lt;/HighPrecision&gt;&lt;WKID&gt;102719&lt;/WKID&gt;&lt;LatestWKID&gt;2264&lt;/LatestWKID&gt;&lt;/ProjectedCoordinateSystem&gt;</peXml>
</coordRef>
</DataProperties>
<SyncDate>20220412</SyncDate>
<SyncTime>18391400</SyncTime>
<ModDate>20220412</ModDate>
<ModTime>18391400</ModTime>
</Esri>
<dataIdInfo>
<envirDesc Sync="TRUE">Microsoft Windows 10 Version 10.0 (Build 18363) ; Esri ArcGIS 12.9.2.32739</envirDesc>
<dataLang>
<languageCode Sync="TRUE" value="eng"/>
<countryCode Sync="TRUE" value="USA"/>
</dataLang>
<idCitation>
<resTitle Sync="TRUE">Black Owned Businesses</resTitle>
<presForm>
<PresFormCd Sync="TRUE" value="011"/>
</presForm>
</idCitation>
<spatRpType>
<SpatRepTypCd Sync="TRUE" value="002"/>
</spatRpType>
<dataExt>
<geoEle>
<GeoBndBox esriExtentType="search">
<exTypeCode Sync="TRUE">1</exTypeCode>
<westBL Sync="TRUE">-79.268034</westBL>
<eastBL Sync="TRUE">-78.949780</eastBL>
<northBL Sync="TRUE">36.244386</northBL>
<southBL Sync="TRUE">35.859963</southBL>
</GeoBndBox>
</geoEle>
</dataExt>
<idAbs/>
<searchKeys>
<keyword>EVSE Suitability Analysis</keyword>
</searchKeys>
<idPurp>Subset of the Historically Underutilized Business data from the North Carolina Dept. of Administration's Office for Historically Underutilized Businesses. Input into Electric Vehicle Supply Equipment (EVSE) location suitability analysis. Features were input into a 0.25 mile pedestrian network service area analysis. Features were reclassified </idPurp>
<idCredit/>
<resConst>
<Consts>
<useLimit/>
</Consts>
</resConst>
</dataIdInfo>
<mdLang>
<languageCode Sync="TRUE" value="eng"/>
<countryCode Sync="TRUE" value="USA"/>
</mdLang>
<distInfo>
<distFormat>
<formatName Sync="TRUE">File Geodatabase Raster Dataset</formatName>
</distFormat>
</distInfo>
<mdHrLv>
<ScopeCd Sync="TRUE" value="005"/>
</mdHrLv>
<mdHrLvName Sync="TRUE">dataset</mdHrLvName>
<refSysInfo>
<RefSystem>
<refSysID>
<identCode Sync="TRUE" code="2264"/>
<idCodeSpace Sync="TRUE">EPSG</idCodeSpace>
<idVersion Sync="TRUE">6.12(9.0.0)</idVersion>
</refSysID>
</RefSystem>
</refSysInfo>
<spdoinfo>
<rastinfo>
<rasttype Sync="TRUE">Pixel</rasttype>
<rowcount Sync="TRUE">1405</rowcount>
<colcount Sync="TRUE">943</colcount>
<rastxsz Sync="TRUE">99.527385</rastxsz>
<rastysz Sync="TRUE">99.527385</rastysz>
<rastbpp Sync="TRUE">8</rastbpp>
<vrtcount Sync="TRUE">1</vrtcount>
<rastorig Sync="TRUE">Upper Left</rastorig>
<rastcmap Sync="TRUE">FALSE</rastcmap>
<rastcomp Sync="TRUE">LZ77</rastcomp>
<rastband Sync="TRUE">1</rastband>
<rastdtyp Sync="TRUE">pixel codes</rastdtyp>
<rastifor Sync="TRUE">FGDBR</rastifor>
<rastplyr Sync="TRUE">TRUE</rastplyr>
</rastinfo>
</spdoinfo>
<spref>
<horizsys>
<planar>
<planci>
<plance Sync="TRUE">row and column</plance>
<coordrep>
<absres Sync="TRUE">99.527385</absres>
<ordres Sync="TRUE">99.527385</ordres>
</coordrep>
</planci>
</planar>
</horizsys>
</spref>
<eainfo>
<detailed Name="VAT_BOB_source">
<enttyp>
<enttypl Sync="TRUE">VAT_BOB_source</enttypl>
<enttypt Sync="TRUE">Table</enttypt>
<enttypc Sync="TRUE">19</enttypc>
</enttyp>
<attr>
<attrlabl Sync="TRUE">OBJECTID</attrlabl>
<attalias Sync="TRUE">OBJECTID</attalias>
<attrtype Sync="TRUE">OID</attrtype>
<attwidth Sync="TRUE">4</attwidth>
<atprecis Sync="TRUE">0</atprecis>
<attscale Sync="TRUE">0</attscale>
<attrdef Sync="TRUE">Internal feature number.</attrdef>
<attrdefs Sync="TRUE">Esri</attrdefs>
<attrdomv>
<udom Sync="TRUE">Sequential unique whole numbers that are automatically generated.</udom>
</attrdomv>
</attr>
<attr>
<attrlabl Sync="TRUE">Value</attrlabl>
<attalias Sync="TRUE">Value</attalias>
<attrtype Sync="TRUE">Integer</attrtype>
<attwidth Sync="TRUE">4</attwidth>
<atprecis Sync="TRUE">0</atprecis>
<attscale Sync="TRUE">0</attscale>
</attr>
<attr>
<attrlabl Sync="TRUE">Count</attrlabl>
<attalias Sync="TRUE">Count</attalias>
<attrtype Sync="TRUE">Double</attrtype>
<attwidth Sync="TRUE">8</attwidth>
<atprecis Sync="TRUE">0</atprecis>
<attscale Sync="TRUE">0</attscale>
</attr>
</detailed>
</eainfo>
<mdDateSt Sync="TRUE">20220412</mdDateSt>
</metadata>
